BEGIN:VCALENDAR
VERSION:2.0
PRODID:-//wp-events-plugin.com//7.2.3.1//EN
BEGIN:VEVENT
UID:360@tusercotravel.com
DTSTART;TZID=Europe/Madrid:20260718T000000
DTEND;TZID=Europe/Madrid:20260720T000000
DTSTAMP:20260317T134303Z
URL:https://tusercotravel.com/events/santuario-de-lourdes-y-zaragoza-2026-
 03-28-2026-07-18/
SUMMARY:Santuario de Lourdes y Zaragoza
DESCRIPTION:\nSantuario de Lourdes y Zaragoza\n\n\n\n\n\n\n\n\nPrecios: 22
 9€\nFechas 2026: \n28-29 Marzo\n18-19 Julio\n19-20 Septiembre\n24-25 Oc
 tubre\n\nDescubre un inolvidable viaje a Lourdes y Zaragoza desde Valenci
 a\, ideal para quienes buscan espiritualidad\, cultura y confort. Salida n
 octurna en autobús\, visita al Santuario de Lourdes y a la Basílica del 
 Pilar\, todo organizado para tu comodidad.\n\n\n\n\n\n\n\nOferta en JPG\n\
 nReservar\n\n\n\n\n\nFIN DE SEMANA:\nDÍA 1º: Salida nocturna viernes a
  las 23:00h desde Valencia punto principal. Trayecto Nocturno hacia Lourde
 s con las paradas oportunas.\nLlegada al Hotel y distribución de habitac
 iones. Visita al Santuario de Lourdes por la mañana. Comida en el Hot
 el. Por la tarde Visita a la ciudad de Lourdes\, ciudad francesa situad
 a en las llanuras de Bigorre. Por la noche Posibilidad de acudir a la Pro
 cesión de las Antorchas de Lourdes\, cuya imagen es conocida en todo el 
 mundo. Es el momento más popular de Lourdes. Cena y alojamiento en el 
 Hotel.\n\nDÍA 2º: Desayuno y salida hacia Zaragoza. Visita a la Seo 
 de Zaragoza y a la Virgen del Pilar (comida libre). Y continuación hasta
  nuestro origen.\n\nINCLUYE:\n– Circuito en moderno Autobús. Salida Noc
 turna 1er Día.\n– Hotel en Pensión Completa\, Agua y Vino incluidos\n
 – Visita a Santuario de Lourdes\, Ciudad Lourdes y Basílica de Zaragoza
 \n– Seguro de viaje y Guía acompañante\n– Tasa Turística del Hotel.
 \n\nNO INCLUYE:\n– Entradas a Monumentos\n– Todo lo no especificado an
 teriormente\n\nPrecio por persona en habitación doble.\nSuplemento habita
 ción Individual… + 30€ persona/noche\n\n\n¡Contrata el seguro de can
 celación por solo 10€!\n\n\n\n\n\n\n\n\n\n\n\n\nSi estás buscando una 
 escapada diferente\, llena de emociones\, historia y espiritualidad\, este
  viaje a Lourdes y Zaragoza desde Valencia es para ti. En solo dos días
 \, podrás conocer dos de los destinos religiosos más emblemáticos de Eu
 ropa\, disfrutando de una experiencia organizada\, cómoda y enriquecedora
 .\nEl primer día comienza con salida nocturna en autobús desde Valencia\
 , para aprovechar al máximo el fin de semana. Al llegar a Lourdes\, visi
 tarás su famoso Santuario\, donde se apareció la Virgen María a Bernar
 dita. Tendrás tiempo para recorrer el lugar\, disfrutar de la paz del ent
 orno y conocer los puntos más destacados de esta ciudad francesa situada 
 en la región de Bigorre. Por la noche\, podrás participar en la conmoved
 ora Procesión de las Antorchas\, uno de los momentos más emotivos del v
 iaje.\nEl segundo día\, tras el desayuno\, partirás rumbo a Zaragoza\, 
 donde te espera la Basílica de Nuestra Señora del Pilar\, uno de los pr
 incipales centros de peregrinación de España. La comida será libre\, p
 ara que puedas degustar la gastronomía local a tu gusto.\nEste viaje incl
 uye transporte en autobús moderno\, alojamiento en hotel en pensión co
 mpleta\, guía acompañante\, seguro de viaje\, y todas las tasas turís
 ticas incluidas. Una oportunidad perfecta para desconectar\, reconectar co
 n tu fe o simplemente descubrir lugares únicos en buena compañía.\nRese
 rva ahora tu viaje a Lourdes y Zaragoza desde Valencia y vive una experi
 encia inolvidable.\n\n\n\n\n\n
ATTACH;FMTTYPE=image/jpeg:https://tusercotravel.com/wp-content/uploads/202
 4/12/LOURDES-Y-ZARAGOZA-SLD-e1764787896571.jpg
CATEGORIES:Circuito Fin de Semana
END:VEVENT
BEGIN:VTIMEZONE
TZID:Europe/Madrid
X-LIC-LOCATION:Europe/Madrid
BEGIN:DAYLIGHT
DTSTART:20260329T030000
TZOFFSETFROM:+0100
TZOFFSETTO:+0200
TZNAME:CEST
END:DAYLIGHT
END:VTIMEZONE
END:VCALENDAR