BEGIN:VCALENDAR
VERSION:2.0
PRODID:-//wp-events-plugin.com//7.2.3.1//EN
BEGIN:VEVENT
UID:369@tusercotravel.com
DTSTART;TZID=Europe/Madrid:20260411T000000
DTEND;TZID=Europe/Madrid:20260413T000000
DTSTAMP:20260317T141021Z
URL:https://tusercotravel.com/events/ruta-del-quijote-y-la-mancha/
SUMMARY:Ruta del Quijote Y La Mancha
DESCRIPTION:\n\n\nRuta del Quijote y La Mancha\nPrecio:  285€ / persona\
 nFechas : Puente San Vicente 11-13 Abril \nDisfruta esta Ruta del Quijote
  donde nuestros aventurados Don Quijote y Sancho Panza no enseñarán rinc
 ones muy bonitos… con nuestro viaje tematizado\, con visitas guiadas\, 
 visitando los lugares por donde El Quijote vivió sus aventuras y recreand
 o los capítulos y desventuras de nuestro héroe nacional entre Naturaleza
  y Pueblecitos de La Mancha.\n\n\n\n\n\n\n\n\n\n\nPUENTE DE SAN VICENTE:\n
 DIA 1º: Salida con destino a Alcázar de San Juan\, allí visitaremos s
 u Plaza con la estatua de Don Quijote y Sancho Panza\, recogeremos nuestro
  Pasaporte Ruta del Quijote y  visitaremos (entrada incluida) el Museo
  del  Hidalgo. Visita a La Venta de Don Quijote donde haremos la comi
 da en su restaurante como buenos hidalgos. Por la tarde\, realizaremos la
  visita a los molinos de Campo de Criptana. Y a continuación haremos la 
 visita guiada a El Toboso y entrada incluida a la Casa de Dulcinea. Reg
 reso al Hotel para cena y alojamiento.\n\nDIA 2º: Después del desayuno l
 legaremos a Argamasilla de Alba para visita guiada y  visita de la Cas
 a Medrano con entrada incluida\, donde D. Quijote estuvo preso y donde se
  inspiró en su libro. A continuación nos dirigiremos a las  Lagunas de
  Ruidera y visita al Castillo de Peñarroya. Llegada al Hotel para la C
 omida. Por la tarde visitaremos Villanueva de los Infantes dónde visita
 remos su casco antiguo castellano y la Iglesia de San Andrés Apóstol. Re
 greso al Hotel Cena y baile en la discoteca.\n\nDIA 3º: Después del des
 ayuno llegaremos visitaremos la famosa ciudad de Almagro donde además d
 e probar las famosas berenjenas podremos visitar su Plaza Mayor y el Te
 atro Corral de las Comedias. A continuación iremos a Manzanares donde 
 podremos visitar el primer y único Museo del Queso Manchego D.O. Llegad
 a al Hotel para la Comida y salida de regreso.\n\nPrecio por persona en ha
 bitación doble\n\nSuplemento Individual………….+44€/persona/estanc
 ia\nINCLUYE:\n– Transporte en autocar durante el recorrido\n– Alojamie
 nto en Hotel 3* en Pensión Completa Agua y Vino\n– 1 comida extra en e
 l Restaurante de la Venta del Quijote Agua y Vino.\n– Guías Locales en
  El Toboso y Argamasilla de Alba.\n– Guía intérprete desde la salida y
  durante todo el viaje.\n– Seguro de asistencia en viaje.\nNO INCLUYE:\n
 Todo lo no especificado como incluido\n\n¡Contrata el seguro de cancelaci
 ón por solo 8€!\n\nTodo el recorrido acompañado por fragmentos leídos
  de El Quijote por nuestros guías.\n\nCONSIGUE TU DIPLOMA de Caballero A
 ndante o Dulcinea\n\n\n\nLUGAR DE SALIDA Y HORARIO\n\n\nVALENCIA: Puerta H
 otel Novotel CC Nuevo Centro\nConsultar otros puntos de recogida.\n07:00\n
 \n\n\n\n
ATTACH;FMTTYPE=image/jpeg:https://tusercotravel.com/wp-content/uploads/202
 4/02/Ruta-Don-Quijote-PUENTE-Tuserco-Travel.jpg
CATEGORIES:Circuitos Puentes
END:VEVENT
BEGIN:VTIMEZONE
TZID:Europe/Madrid
X-LIC-LOCATION:Europe/Madrid
BEGIN:DAYLIGHT
DTSTART:20260329T030000
TZOFFSETFROM:+0100
TZOFFSETTO:+0200
TZNAME:CEST
END:DAYLIGHT
END:VTIMEZONE
END:VCALENDAR