BEGIN:VCALENDAR
VERSION:2.0
PRODID:-//wp-events-plugin.com//7.2.3.1//EN
BEGIN:VEVENT
UID:373@tusercotravel.com
DTSTART;TZID=Europe/Madrid:20261024T000000
DTEND;TZID=Europe/Madrid:20261026T000000
DTSTAMP:20260317T141354Z
URL:https://tusercotravel.com/events/ruta-del-quijote-2026-05-16-2026-06-1
 3-2026-10-24/
SUMMARY:Ruta del Quijote
DESCRIPTION:\nRuta del Quijote\n\n\n\n\n\n\n\n\n\n\n\nPrecios: 185€ \n\
 n\n\n\n\n\n\nFechas: \n28-29 Marzo\n16-17 Mayo +15€\n13-14 Junio +15€
 \n24-25 Octubre\n7-8 Noviembre\n\nEn un lugar de la Mancha…..revive la O
 bra de El Quijote con nuestro viaje tematizado interpretando los relatos d
 e El Quijote según recorremos el viaje\, además con visitas guiadas\, vi
 sitando los lugares por donde El Quijote vivió sus aventuras y recreando 
 los capítulos y desventuras de nuestro héroe nacional entre Naturaleza y
  Pueblecitos de La Mancha. Entra en esta dimensión con nosotros y convié
 rtete con tu diploma en Dulcinea del Toboso o Caballero Andante.\n\n\n\n\n
 \n\n\nFIN DE SEMANA:\nDIA 1º: Salida con destino a Alcázar de San Juan\
 , allí visitaremos su Plaza con la estatua de Don  Quijote y  Sancho Pa
 nza\, recogeremos nuestro Pasaporte Ruta del Quijote y visitaremos (entr
 ada incluida) el Museo del  Hidalgo. Visita a La Venta de Don Quijote
  donde haremos la comida en su restaurante como buenos hidalgos.\nPor la 
 tarde\, realizaremos la visita a los molinos de Campo de Criptana. Y a co
 ntinuación haremos la visita guiada a El Toboso y a la Casa de Dulcine
 a. Regreso al Hotel para cena\, baile y alojamiento.\nDIA 2º: Después de
 l desayuno llegaremos a Argamasilla de Alba para visita guiada y visita 
 de la Casa Medrano (entrada incluida) donde D. Quijote estuvo preso y do
 nde se inspiró en su libro. A continuación nos dirigiremos a las  Lagu
 nas de Ruidera\, visita al Castillo de Peñarroya.\nLlegada al Hotel par
 a la Comida y salida de regreso.\nINCLUYE:\n– Transporte en autocar dura
 nte el recorrido\n– Alojamiento en Hotel 3* en Pensión Completa Agua y 
 Vino\n– 1 comida extra en Rte Venta del Quijote Agua y Vino.\n– Guí
 a Local en El Toboso y Argamasilla de Alba.\n– Guía acompañante desde 
 la salida y durante todo el viaje\n– Seguro de asistencia en viaje.\nNO 
 INCLUYE:\n– Todo lo no especificado anteriormente como incluido\n– Ent
 radas a Monumentos\nPrecio por persona en habitación doble\nSuplemento In
 dividual………….+25€/persona\n\n¡Contrata el seguro de cancelació
 n por solo 8€!\n\n\n\n\n\n\n\n\n\n\n\n\n\nSearch\n\n\n\n\n\n\n\nSalidas\
 nPrecio\nHorario\n\n\nSALIDAS\, SUPLEMENTOS Y HORARIOS\n\n\nCASTELLÓN Est
 ación de Autobuses\n+22€\n06:00\n\n\nSAGUNTO Parada Bus Av. País Valen
 cià H Azahar\n+14€\n06:30\n\n\nVALENCIA Puerta Hotel Novotel CC Nuevo C
 entro\nBASE\n07:00\n\n\n\n\n\n\n\n\n\n
ATTACH;FMTTYPE=image/jpeg:https://tusercotravel.com/wp-content/uploads/202
 1/10/Ruta-Don-Quijote-Fin-de-semana-Tuserco-Travel.jpg
CATEGORIES:Circuito Fin de Semana
END:VEVENT
BEGIN:VTIMEZONE
TZID:Europe/Madrid
X-LIC-LOCATION:Europe/Madrid
BEGIN:DAYLIGHT
DTSTART:20260329T030000
TZOFFSETFROM:+0100
TZOFFSETTO:+0200
TZNAME:CEST
END:DAYLIGHT
BEGIN:STANDARD
DTSTART:20261025T020000
TZOFFSETFROM:+0200
TZOFFSETTO:+0100
TZNAME:CET
END:STANDARD
END:VTIMEZONE
END:VCALENDAR