BEGIN:VCALENDAR
VERSION:2.0
PRODID:-//wp-events-plugin.com//7.2.3.1//EN
BEGIN:VEVENT
UID:368@tusercotravel.com
DTSTART;TZID=Europe/Madrid:20260612T000000
DTEND;TZID=Europe/Madrid:20260614T000000
DTSTAMP:20260317T140536Z
URL:https://tusercotravel.com/events/patios-de-cordoba/
SUMMARY:Patios de Córdoba
DESCRIPTION:\nPatios de Córdoba\n\n\n\nPatios de Córdoba\n\nPrecio: 342 
 € / persona en habitación doble\n\nFechas: 12-14 JUNIO 2026\n\nPrecio 
 por persona y estancia en habitación doble.\nLos Patios de Córdoba son
  espacios interiores de casas tradicionales cordobesas\, decorados con abu
 ndantes flores\, plantas\, fuentes y azulejos. Surgieron como una forma de
  adaptar las viviendas al clima cálido\, creando lugares frescos y agrada
 bles. Son especialmente famosos por el Festival de los Patios\, celebrado
  cada primavera\, cuando los vecinos abren sus patios al público. Esta tr
 adición fue declarada Patrimonio Cultural Inmaterial de la Humanidad por
  la UNESCO en 2012.\nEn Mayo son los concursos y en Junio se podrán segu
 ir viendo los patios decorados ya sabiendo los ganadores.\n\n\n\n1º DÍA:
  Salida a la hora prevista y llegada al  Hotel. Cena y alojamiento.\n2º
  DÍA: Después del desayuno visita a los PATIOS DE CÓRDOBA\, entrada 
  incluida. Comida libre en cualquiera de los maravillosos rincones de Cór
 doba y degustar sus tapas o menús. Por la tarde podremos visitar la Mezqu
 ita de Córdoba\, el Barrio Judío\, etc. Llegada al Hotel para Cena y al
 ojamiento.\n3º DÍA: Después del desayuno visita a Medina Azahara\, la
 nzadera incluida\, una de las maravillas del arte de Al-Ándalus. Continu
 ación con comida en el Hotel. Salida para regreso a nuestro origen.\n\nIN
 CLUYE:\n– Transporte en autocar durante el recorrido\n– Alojamiento en
  Hotel 2/3* en los alrededores de Córdoba.\n– Régimen 1 Pensión Comp
 leta + 1 Media Pensión.\n– Agua y Vino en las comidas.\n– Visitas y e
 ntrada a los Patios.\n– Lanzadera a Medina Azahara.\n– Guía acompaña
 nte\n– Seguro de asistencia en viaje incluido.\n\nNO INCLUYE:\n– Todo 
 lo no especificado anteriormente como incluido\n– Suplemento Individual
  + 65€ / persona.\n– Seguro Cancelación +8€ /persona.\n\n\n\nSALIDA
 S\, SUPLEMENTOS Y HORARIOS\n\n\nCASTELLÓN Estación de Autobuses\n+22\n1
 4:30\n\n\nSAGUNTO Parada Bus Av. País Valencià H Azahar\n+14\n15:00\n\n
 \nVALENCIA Puerta H Novotel CC Nuevo Centro\nBASE\n15:30\n\n\n\n
ATTACH;FMTTYPE=image/jpeg:https://tusercotravel.com/wp-content/uploads/202
 1/01/Patios-de-Cordoba-SLD-Tuserco-Travel-2023.jpg
CATEGORIES:Circuito Fin de Semana
END:VEVENT
BEGIN:VTIMEZONE
TZID:Europe/Madrid
X-LIC-LOCATION:Europe/Madrid
BEGIN:DAYLIGHT
DTSTART:20260329T030000
TZOFFSETFROM:+0100
TZOFFSETTO:+0200
TZNAME:CEST
END:DAYLIGHT
END:VTIMEZONE
END:VCALENDAR