BEGIN:VCALENDAR
VERSION:2.0
PRODID:-//wp-events-plugin.com//7.2.3.1//EN
BEGIN:VEVENT
UID:363@tusercotravel.com
DTSTART;TZID=Europe/Madrid:20260410T000000
DTEND;TZID=Europe/Madrid:20260413T000000
DTSTAMP:20260317T134903Z
URL:https://tusercotravel.com/events/malaga-y-caminito-del-rey-3/
SUMMARY:Málaga y Caminito del Rey
DESCRIPTION:\n\n\nMálaga y Caminito del Rey\nPrecios: 495€\nFechas: 10
 -13 Abril 2026\n\nVive una experiencia única con este viaje a Málaga y 
 Caminito del Rey\, que combina naturaleza y cultura en un solo recorrido. 
 Disfruta del espectacular Caminito del Rey\, visita Ronda y Antequera\, 
 y descubre lo mejor de Málaga con guía\, hotel y pensión completa inc
 luidos. Una excursión perfecta por Andalucía con todo organizado para 
 ti.\n\n\n\n\n\n\n\n\n\nITINERARIO:\n\nDía 1º: Salida desde los puntos d
 e origen. Trayecto con paradas técnicas. Llegada a Málaga y comida libre
  en ruta. Por la tarde visita a Málaga donde recorreremos los puntos m
 ás importantes de la ciudad La Alcazaba\, Teatro Romano y la Catedral 
 entre otros.  Dirección al hotel para cena y alojamiento.\n\nDía 2º:
  Desayuno en el Hotel y salida al Paraje Natural Desfiladero de los Gait
 anes donde comenzaremos nuestra ruta. La Ruta del Caminito del Rey (entr
 ada incluida) discurre por un espectacular cañón excavado por el Río G
 uadalhorce\, en plena naturaleza. Consta de un recorrido lineal de 7\,7 km
  (2h aprox.). Comida en restaurante. Por la tarde visitaremos Ronda don
 de haremos una visita y un pequeño recorrido por el Camino del Albacar 
 uno de los parajes más simbólicos de la cornisa del Tajo y ofrecer una p
 erspectiva icónica del Puente Nuevo. El camino\, utilizado con fines prod
 uctivos en la época nazarí. Hotel para cena y alojamiento.\n\nDía 3º
 : Desayuno y dirección para nuestra Ruta Torcal de Antequera\, Paraje 
 Natural y conocido por las caprichosas  formas que la erosión ha ido mod
 elando en sus rocas calizas\, constituyendo un destacado ejemplo del paisa
 je Kárstico. En según la capacidad de cada uno haremos diversas rutas\; 
 ruta fácil o media. Comida en restaurante. Por la tarde visitaremos Ant
 equera Patrimonio de la Humanidad y su bellísimo casco antiguo destacand
 o Convento de Santa Catalina de Siena y el Palacio de Nájera\, actual Mu
 seo de Antequera y Colegiata de San Sebastián. Hotel cena y alojamient
 o.\n\nDia 4º: Desayuno y visita a Caravaca de la Cruz\, un bonito recor
 rido en trenecito para ver los puntos más importantes de esta bonita ci
 udad para llegar hasta el Santuario de la Virgen de Caravaca\, lugar de c
 oncentración de peregrinaciones. A continuación\, comida en Restaurante
  y al finalizar regreso a nuestros orígenes.\n\nOPCIONAL:\n-Seguro Cance
 lación +12€\n-Suplemento habitación individual 125€\n\nINCLUYE:\n-CI
 RCUITO EN AUTOBUS\n-HOTEL CONTRASTADO DE  3* O 4* según programa\n-RÉGI
 MEN EN MEDIA PENSIÓN CON AGUA Y VINO\n-COMIDAS EN RESTAURANTE\n-RUTA Y EN
 TRADA AL CAMINITO DEL REY\n-RUTA TORCAL DE ANTEQUERA\n-TRENECITO CARAVACA 
 DE LA CRUZ\n-SEGURO DE VIAJE\n-GUÍA ACOMPAÑANTE\n\nNO INCLUYE:\n– Entr
 adas a monumentos\n– Todo lo no especificado anteriormente\n\n\n\n\n\n\
 n\n\n
ATTACH;FMTTYPE=image/jpeg:https://tusercotravel.com/wp-content/uploads/202
 5/07/caminito-del-rey-SLD-e1771956140898.jpg
CATEGORIES:Circuitos Puentes
END:VEVENT
BEGIN:VTIMEZONE
TZID:Europe/Madrid
X-LIC-LOCATION:Europe/Madrid
BEGIN:DAYLIGHT
DTSTART:20260329T030000
TZOFFSETFROM:+0100
TZOFFSETTO:+0200
TZNAME:CEST
END:DAYLIGHT
END:VTIMEZONE
END:VCALENDAR