BEGIN:VCALENDAR
VERSION:2.0
PRODID:-//wp-events-plugin.com//7.2.3.1//EN
BEGIN:VEVENT
UID:195@tusercotravel.com
DTSTART;TZID=Europe/Madrid;VALUE=DATE:20251009
DTEND;TZID=Europe/Madrid;VALUE=DATE:20251010
DTSTAMP:20251029T170934Z
URL:https://tusercotravel.com/events/la-suiza-manchega/
SUMMARY:La Suiza Manchega
DESCRIPTION:La Suiza Manchega\nPrecios: 417€\nFechas: 09-12 Octubre\n\n
 [maxbutton id="4" url="https://tusercotravel.com/wp-content/uploads/2025/0
 7/LA-SUIZA-MANCHEGA-09-12-OCTUBRE.pdf" text="Oferta en Pdf" ]\n\n[maxbutto
 n id="4" url="https://tusercotravel.com/wp-content/uploads/2025/07/LA-SUIZ
 A-MANCHEGA-09-12-OCTUBRE.jpg" text="Oferta en Jpg" ]\n\nVen con nosotros p
 ara disfrutar de lugares Bogarrá y su fascinante Ruta de las Escultura
 s al aire libre. Maravíllate con el espectacular nacimiento de los Chor
 ros del Río Mundo\, descubre el encanto de Riópar y sumérgete en los 
 rincones moriscos y miradores de Aýna. Tambien te espera Alcalá del J
 úcar\, con su paisaje pintoresco\, visita a una bodega y cata de vinos. C
 ierra la aventura explorando el imponente patrimonio monumental de Chinch
 illa.\n¡Descubre la historia\, los paisajes épicos y los secretos mejor 
 guardados de estos pueblos con alma!\n\n[maxbutton id="1" url="https://res
 ervas.tusercotravel.com//1servicio?id=suizamanchega25&amp\;prevSlug=planti
 lla" text="Reservar" ]\n\nDía 1º: Salida por la mañana con dirección 
 al hotel y reparto de habitaciones. Comida menú en restaurante del hotel 
 con platos caseros. Por la tarde\, visita guiada por BOGARRA y su famosa R
 uta de las Esculturas. Cena menú en restaurante del hotel.\n\nDía 2º: 
 Desayuno y salida para visitar el espectacular nacimiento de los Chorros d
 el Río Mundo y visitaremos el pueblo de RIÓPAR. Comida menú en el resta
 urante del hotel con degustación de quesos. Por la tarde\, visita guiada 
 por AÝNA y sus maravillosos rincones moriscos y miradores. Cena menú en 
 restaurante del hotel. OPCIONAL: Baile discoteca con copa de cava (3 € s
 upl por persona -  2 horas)\n\nDía 3º: Desayuno y salida con visita gu
 iada por el pintoresco pueblo de ALCALÁ DEL JÚCAR\, incluyendo cata de v
 inos y visita a una Bodega. Comida en restaurante de Alcalá del Júcar\, 
 con baile después de la comida bajo disponibilidad del restaurante en ese
  momento. Cena menú en restaurante del hotel.\n\nDia 4º: Desayuno y sal
 ida para visitar el pueblo de CHINCHILLA\, conocido por su gran riqueza mo
 numental Al finalizar\, regreso a nuestro punto de origen.\nINCLUYE:\n\n\n
 *Transporte en autocar durante el recorrido\n*Alojamiento en Hotel con
  2 Pensiones completas + 1 Media Pensión con agua/vino.\n*Comida Extra e
 n Restaurante\n*Guía acompañante\n*Visita guiada a Bogarra\, Riopar y A
 lcala del Juca\n*Seguro de asistencia en viaje.\n\n \n\n\n\n\n\n\nSALIDA
 S\, SUPLEMENTOS Y HORARIOS\n\n\n\nCASTELLÓN Estación de Autobuses\n+22\n
 08:30\n\n\nSAGUNTO Parada Bus Av. País Valencià H Azahar\n+14\n09:00\n\n
 \nVALENCIA Parada Bus frente Hotel Expo\nBase\n09:30\n\n\n\n&nbsp\;\nEste 
 viaje La Suiza Manchega es una escapada perfecta para quienes desean desco
 nectar y descubrir algunos de los rincones más bellos de Castilla-La Manc
 ha. Con alojamiento en régimen de pensión completa\, disfrutarás de pai
 sajes espectaculares\, pueblos con historia\, gastronomía local y visitas
  guiadas por la Sierra del Segura y La Manchuela.\nDurante el recorrido co
 nocerás Bogarra\, un encantador pueblo de montaña famoso por su Ruta de 
 las Esculturas\, un sendero natural adornado con más de 60 obras integrad
 as en el paisaje. También visitarás el impresionante nacimiento del Río
  Mundo\, uno de los saltos de agua más espectaculares de la península\, 
 situado en el Parque Natural de los Calares del Mundo y de la Sima.\nEl vi
 aje continúa hacia Aýna\, conocida como “la Suiza Manchega”\, por su
  ubicación entre montañas y sus increíbles miradores. Es un pueblo de o
 rigen morisco lleno de encanto y tranquilidad. En el itinerario también e
 stá incluida Alcalá del Júcar\, uno de los pueblos más bonitos de Espa
 ña\, donde disfrutarás de una visita guiada y una cata de vinos en bodeg
 a.\nPara finalizar\, conocerás Chinchilla de Montearagón\, una villa mon
 umental con calles históricas\, miradores y un gran valor patrimonial. To
 das las comidas\, tanto en el hotel como en restaurantes locales\, están 
 incluidas en régimen de pensión completa\, con platos típicos manchegos
 .\nEste viaje por La Suiza Manchega es ideal para grupos\, asociaciones o 
 viajeros que buscan cultura\, naturaleza y tranquilidad sin preocuparse po
 r la organización. Una experiencia única en el corazón rural de Castill
 a-La Mancha.
ATTACH;FMTTYPE=image/jpeg:https://tusercotravel.com/wp-content/uploads/202
 4/10/La-SUIZA-MANCHEGA-SLD-1-e1768590867531.jpg
CATEGORIES:Circuitos Puentes
END:VEVENT
BEGIN:VTIMEZONE
TZID:Europe/Madrid
X-LIC-LOCATION:Europe/Madrid
BEGIN:DAYLIGHT
DTSTART:20250330T030000
TZOFFSETFROM:+0100
TZOFFSETTO:+0200
TZNAME:CEST
END:DAYLIGHT
END:VTIMEZONE
END:VCALENDAR