BEGIN:VCALENDAR
VERSION:2.0
PRODID:-//wp-events-plugin.com//7.2.3.1//EN
BEGIN:VEVENT
UID:220@tusercotravel.com
DTSTART;TZID=Europe/Madrid:20260411T070000
DTEND;TZID=Europe/Madrid:20260411T204500
DTSTAMP:20260317T120326Z
URL:https://tusercotravel.com/events/excursion-monasterio-de-piedra-2/
SUMMARY:Excursión Monasterio de Piedra
DESCRIPTION:\n\n\nExcursión Monasterio De Piedra\nPrecios:  74€  /pers
 ona\nNiños: -5€\n\nDescubre toda la magia de un entorno natural\, visi
 tando el Monasterio de Piedra. Situado dentro de Nuévalos\, en Zaragoza. 
 Entorno paisajístico insólito\, rodeado de cascadas y saltos de agua esp
 ectaculares.\n\n\n\n\n\n\n\n\n\n\n\nINCLUYE:\n* EXCURSIÓN EN AUTOBÚS\n*
  Visita al MONASTERIO DE PIEDRA (Nuévalos\, Zaragoza): El Parque Natu
 ral\, Jardín Histórico del Monasterio de Piedra\, ofrece un espectacula
 r recorrido a través de una exuberante naturaleza. Un paisaje sorprendent
 e donde caminos y senderos cruzan cascadas\, arroyos\, lagos y grutas\, a 
 la sombra de árboles centenarios y una excepcional vegetación.\n* COMID
 A EN RESTAURANTE \n* ENTRADA AL MONASTERIO: Los muros del Monasterio de
 l siglo XIII\, esconden casi 8 siglos de Historia desde su consagración\,
  en 1218. En él se pueden contemplar las principales características de 
 la arquitectura Cisterciense. La Iglesia es el edificio central\, con un c
 laustro anexo en torno al cual se disponen las estancias monacales: Sala C
 apitular\, Cillería o almacén\, Cocina\, Refectorio y Calefactorio.\n\nI
 ncluye seguro de transporte y guía acompañante\nPrecio por persona. Niñ
 os –5€\nFechas 2026\n\n\n\n\n\n\n\n11 Abril\n\n\n\n\n\n\n\n\n*Confirma
 r horario antes de la salida por logística de ruta. Algunos puntos necesi
 taran un mínimo de plazas para su recogida. No máximo de 3 paradas recog
 idas.\n\n\n\n\n\n\n\n\n\n\n\n\n\nSearch\n\n\n\n\n\n\n\nSalidas\nPrecio\nHo
 rario\n\n\nSALIDAS\, SUPLEMENTOS Y HORARIOS\n\n\nCASTELLÓN Estación de A
 utobuses\n+22€\n06:00\n\n\nSAGUNTO Parada Bus Av. País Valencià H Azah
 ar\n+14€\n06:30\n\n\nVALENCIA Puerta Hotel Novotel CC Nuevo Centro\nBASE
 \n07:00\n\n\n\n\n\n\n\n
ATTACH;FMTTYPE=image/jpeg:https://tusercotravel.com/wp-content/uploads/202
 1/03/Excursion-Monasterio-de-Piedra-portada.jpg
CATEGORIES:Excursiones Regulares
END:VEVENT
BEGIN:VTIMEZONE
TZID:Europe/Madrid
X-LIC-LOCATION:Europe/Madrid
BEGIN:DAYLIGHT
DTSTART:20260329T030000
TZOFFSETFROM:+0100
TZOFFSETTO:+0200
TZNAME:CEST
END:DAYLIGHT
END:VTIMEZONE
END:VCALENDAR