BEGIN:VCALENDAR
VERSION:2.0
PRODID:-//wp-events-plugin.com//7.2.3.1//EN
BEGIN:VEVENT
UID:224@tusercotravel.com
DTSTART;TZID=Europe/Madrid:20260704T000000
DTEND;TZID=Europe/Madrid:20260705T000000
DTSTAMP:20260317T122512Z
URL:https://tusercotravel.com/events/excursion-isla-de-tabarca-y-palmeral-
 de-elche-2026-07-04/
SUMMARY:Excursión Isla de Tabarca y Palmeral de Elche
DESCRIPTION:Disfruta de un día completo con visita guiada a la Isla de Tab
 arca\, con traslado bus desde origen y desde Santa Pola en barco\, comida 
 en restaurante de Tabarca y visita al Palmeral de Elche.\nDescubre esta ma
 ravillosa isla\, sus rincones y sobre todo su historia\, anécdotas y leye
 ndas….te lo contamos todo!
ATTACH;FMTTYPE=image/jpeg:https://tusercotravel.com/wp-content/uploads/202
 3/02/Excursion-Isla-de-Tabarca-y-Palmeral-de-Elche-SLD-2025-1.jpg
CATEGORIES:Excursiones Regulares
LOCATION:https://www.google.com/maps/place/Novotel+Valencia+Lavant/@39.4797
 514,-0.3919449,18.67z/data=!4m13!1m2!2m1!1shotel+novotel+valencia!3m9!1s0x
 d604f683f66a999:0x505adf60577bd4a9!5m2!4m1!1i2!8m2!3d39.4798142!4d-0.39111
 79!15sChZob3RlbCBub3ZvdGVsIHZhbGVuY2lhIgOIAQFaGCIWaG90ZWwgbm92b3RlbCB2YWxl
 bmNpYZIBBWhvdGVsmgFEQ2k5RFFVbFJRVU52WkVOb2RIbGpSamx2VDJ4a05GVklTa2RhVm14dF
 pWaHdlRnBHVVRCV2FrSmFWMjAxVGxreFJSQULgAQD6AQQIABA0!16s%2Fg%2F11w7nvmvsz?au
 thuser=0&entry=ttu&g_ep=EgoyMDI2MDMxMS4wIKXMDSoASAFQAw%3D%3D
END:VEVENT
BEGIN:VTIMEZONE
TZID:Europe/Madrid
X-LIC-LOCATION:Europe/Madrid
BEGIN:DAYLIGHT
DTSTART:20260329T030000
TZOFFSETFROM:+0100
TZOFFSETTO:+0200
TZNAME:CEST
END:DAYLIGHT
END:VTIMEZONE
END:VCALENDAR